BEGIN:VCALENDAR
VERSION:2.0
PRODID:-//eventon.com NONSGML v1.0//EN
CALSCALE:GREGORIAN
METHOD:PUBLISH
BEGIN:VEVENT
UID:69e78b7ced69e
DTSTAMP:20260421T143644Z
DTSTART:20260515T073000Z
DTEND:20260515T143000Z
LOCATION:
SUMMARY:Verdiepingsdag Quantum Balance - 2026
DESCRIPTION:Een EHBO-Kit welke je altijd bij de ‘hand’ hebt!Eenvoudig g
 enezen met je handen. Geen speciale gave.Iedereen kan het leren\,  OOK JIJ!
 ! Quantum Balance is een gemakkelijk te leren methode met ademhalingstechni
 eken en simpele visualisaties die door iedereen kan worden geleerd en beoef
 end. Hiermee kun je jezelf en anderen helpen om[..]\nhttps://trm.staging.go
 udhosting.nl/events/verdiepingsdag-quantum-balance-2026/
URL:https://trm.staging.goudhosting.nl/events/verdiepingsdag-quantum-balance-2026/
END:VEVENT
END:VCALENDAR